BEGIN:VCALENDAR
VERSION:2.0
PRODID:-//ExpressionEngine Easy iCalendar plugin//NONSGML v2.0.1//EN
X-WR-TIMEZONE:America/Chicago
X-WR-CALNAME:Upcoming Auctions
BEGIN:VEVENT
UID:154739
DTSTAMP:20260717T000100
DTSTART:20260717T000100
DTEND:20260727T150000
SUMMARY:Peter & Colleen Fank Online Only Farm Retirement Auction
LOCATION:550 160th Avenue SE\, Kerkhoven\, MN 56252\, US
DESCRIPTION:Complete line of well kept late model farm equipment.
URL:https://www.zielsdorfauctions.com/auctions/detail/bw154739
SEQUENCE:1
END:VEVENT
END:VCALENDAR